BEGIN:VCALENDAR
VERSION:2.0
PRODID:-//Tukios.com/
BEGIN:VEVENT
UID:6c5ed8b1-7f74-421f-a836-1177a5fe6845@www.fowlersullivanfuneralhome.com
DTSTAMP:20260423T211254Z
DTSTART:20260427T160000Z
DTEND:20260427T170000Z
SUMMARY:Visitation
DESCRIPTION:
URL:https://www.fowlersullivanfuneralhome.com/obituaries/rodney-towns
LOCATION:Fowler-Sullivan Funeral Home 701 Vine Street  Poplar Bluff MO 
	63901
GEO:36.7574634;-90.3990453
END:VEVENT
END:VCALENDAR