BEGIN:VCALENDAR
VERSION:2.0
PRODID:-//Tukios.com/
BEGIN:VEVENT
UID:16f53d13-2de6-4ca9-a901-c620e6293a04@www.fowlersullivanfuneralhome.com
DTSTAMP:20260423T211812Z
DTSTART:20260427T170000Z
DTEND:20260427T180000Z
SUMMARY:Graveside Service
DESCRIPTION:
URL:https://www.fowlersullivanfuneralhome.com/obituaries/rodney-towns
LOCATION:Fowler-Sullivan Funeral Home 701 Vine Street  Poplar Bluff MO 
	63901
GEO:36.7574634;-90.3990453
END:VEVENT
END:VCALENDAR